BEGIN:VCALENDAR
VERSION:2.0
PRODID:-//Contratero//ES
CALSCALE:GREGORIAN
METHOD:PUBLISH
BEGIN:VEVENT
UID:10416/2020 PASS SUM/SERV@contratero.es
DTSTAMP:20260424T161156Z
DTSTART:20210205T235959
DTEND:20210206T005959
SUMMARY:Cierre: Suministro de un sistema automatizado de accesibil
DESCRIPTION:Suministro de un sistema automatizado de accesibilidad y usabilidad para las webs municipales\\n\\nOrganismo: Alcaldía del Ayuntamiento de Huesca\\n\\nVer en Contratero: https://contratero.es/contracts/10416/2020 PASS SUM/SERV
URL:https://contratero.es/contracts/10416/2020 PASS SUM/SERV
STATUS:CONFIRMED
BEGIN:VALARM
TRIGGER:-P1D
ACTION:DISPLAY
DESCRIPTION:Recordatorio: Suministro de un sistema autom
END:VALARM
END:VEVENT
END:VCALENDAR